BEGIN:VCALENDAR
VERSION:2.0
PRODID:Spatie calendar-links
BEGIN:VEVENT
UID:dff6ece0b50fbc31469666dcc26fd8ae
SUMMARY:Skövde kommun bjuder in: Samhällsbyggnadsfrukost
DTSTAMP:20260520T050000Z
DTSTART:20260520T050000Z
DTEND:20260520T070000Z
DESCRIPTION:Mer information på https://nlfskovde.se/aktiviteter/samhallsbyggnadsfrukost-20maj
LOCATION:Stadshuset plan 5\, Skövde
END:VEVENT
END:VCALENDAR