BEGIN:VCALENDAR
VERSION:2.0
PRODID:Spatie calendar-links
BEGIN:VEVENT
UID:c95888fc90301acb805636c881f927b3
SUMMARY:Forskarfredag +Beredskapsvecka =sant
DTSTAMP:20260925T053000Z
DTSTART:20260925T053000Z
DTEND:20260925T073000Z
DESCRIPTION:Mer information på https://nlfskovde.se/aktiviteter/forskarfredag-beredskapsvecka-sant
LOCATION:ASSAR Industrial Innovation Arena\, Skövde
END:VEVENT
END:VCALENDAR