BEGIN:VCALENDAR
VERSION:2.0
PRODID:Spatie calendar-links
BEGIN:VEVENT
UID:08577ceada749e666dca1705c1550518
SUMMARY:Swecon bjuder in: Välkommen på Maskinvisning
DTSTAMP:20260512T110000Z
DTSTART:20260512T110000Z
DTEND:20260512T180000Z
DESCRIPTION:Mer information på https://nlfskovde.se/aktiviteter/maskinvisning-hos-swecon-i-skovde
LOCATION:Mariestadsvägen 102
END:VEVENT
END:VCALENDAR