BEGIN:VCALENDAR
VERSION:2.0
PRODID:Spatie calendar-links
BEGIN:VEVENT
UID:d2af3d5ac77ea97771adeab1b4ff5faf
SUMMARY:Luncha-Lyssna- Påverka! Skövdes företagsklimat i fokus
DTSTAMP:20260604T093000Z
DTSTART:20260604T093000Z
DTEND:20260604T110000Z
DESCRIPTION:Mer information på https://nlfskovde.se/aktiviteter/luncha-lyssna-paverka-skovdes-foretagsklimat-i-fokus
LOCATION:Skövde Golfklubb
END:VEVENT
END:VCALENDAR