BEGIN:VCALENDAR
VERSION:2.0
PRODID:Spatie calendar-links
BEGIN:VEVENT
UID:8ae2c82a57da85ee801acd52b8f7f63a
SUMMARY:Arvet bjuder in: Den Lokala Handelns Dag
DTSTAMP:20260425T080000Z
DTSTART:20260425T080000Z
DTEND:20260425T140000Z
DESCRIPTION:Mer information på https://nlfskovde.se/aktiviteter/den-lokala-handelns-dag
LOCATION:Arvet Skövde - Bangårdsgatan 6
END:VEVENT
END:VCALENDAR