BEGIN:VCALENDAR
VERSION:2.0
PRODID:Spatie calendar-links
BEGIN:VEVENT
UID:6fcc753a64cfa3f8c63eb5704de66b5f
SUMMARY:Orange Day-frukost: Ett Skövde fritt från våld
DTSTAMP:20261125T063000Z
DTSTART:20261125T063000Z
DTEND:20261125T090000Z
DESCRIPTION:Mer information på https://nlfskovde.se/aktiviteter/natverksfrukost-ett-skovde-fritt-fran-vald
LOCATION:Volvo besökscenter. Pentahuset\, Skövde
END:VEVENT
END:VCALENDAR