BEGIN:VCALENDAR
VERSION:2.0
PRODID:Spatie calendar-links
BEGIN:VEVENT
UID:99f77df001b8db06655a4bed7c8806d2
SUMMARY:Näringslivsgala i Skövde 2026
DTSTAMP:20261112T163000Z
DTSTART:20261112T163000Z
DTEND:20261112T220000Z
DESCRIPTION:Mer information på https://nlfskovde.se/aktiviteter/naringslivsgala-i-skovde-2026
LOCATION:Valhall\, Skövde
END:VEVENT
END:VCALENDAR